BEGIN:VCALENDAR
VERSION:2.0
PRODID:-//South Midlands Pony Club - ECPv4.6//NONSGML v1.0//EN
CALSCALE:GREGORIAN
METHOD:PUBLISH
X-WR-CALNAME:South Midlands Pony Club
X-ORIGINAL-URL:http://southmidlandspc.org.au
X-WR-CALDESC:Events for South Midlands Pony Club
BEGIN:VEVENT
DTSTART;TZID=UTC+0:20190517T070000
DTEND;TZID=UTC+0:20190519T170000
DTSTAMP:20190227T165329
CREATED:20171226T031742Z
LAST-MODIFIED:20190210T094214Z
UID:117-1558076400-1558285200@southmidlandspc.org.au
SUMMARY:PCAWA State Showjumping Championships
DESCRIPTION:
URL:http://southmidlandspc.org.au/event/pcawa-state-showjumping-championships/
END:VEVENT
END:VCALENDAR