BEGIN:VCALENDAR
VERSION:2.0
PRODID:-//South Midlands Pony Club - ECPv4.6//NONSGML v1.0//EN
CALSCALE:GREGORIAN
METHOD:PUBLISH
X-WR-CALNAME:South Midlands Pony Club
X-ORIGINAL-URL:http://southmidlandspc.org.au
X-WR-CALDESC:Events for South Midlands Pony Club
BEGIN:VEVENT
DTSTART;TZID=UTC+0:20190511T080000
DTEND;TZID=UTC+0:20190512T170000
DTSTAMP:20190227T165220
CREATED:20190210T100442Z
LAST-MODIFIED:20190210T100442Z
UID:341-1557561600-1557680400@southmidlandspc.org.au
SUMMARY:PPMG Prelim
DESCRIPTION:
URL:http://southmidlandspc.org.au/event/ppmg-prelim/
END:VEVENT
END:VCALENDAR