BEGIN:VCALENDAR
VERSION:2.0
PRODID:-//South Midlands Pony Club - ECPv4.6//NONSGML v1.0//EN
CALSCALE:GREGORIAN
METHOD:PUBLISH
X-WR-CALNAME:South Midlands Pony Club
X-ORIGINAL-URL:http://southmidlandspc.org.au
X-WR-CALDESC:Events for South Midlands Pony Club
BEGIN:VEVENT
DTSTART;TZID=UTC+0:20190907T080000
DTEND;TZID=UTC+0:20190908T170000
DTSTAMP:20190227T165133
CREATED:20190210T122834Z
LAST-MODIFIED:20190210T122834Z
UID:357-1567843200-1567962000@southmidlandspc.org.au
SUMMARY:PPMG State Active Riding Championship
DESCRIPTION:
URL:http://southmidlandspc.org.au/event/ppmg-state-active-riding-championship/
END:VEVENT
END:VCALENDAR