BEGIN:VCALENDAR
VERSION:2.0
PRODID:-//South Midlands Pony Club - ECPv4.6//NONSGML v1.0//EN
CALSCALE:GREGORIAN
METHOD:PUBLISH
X-WR-CALNAME:South Midlands Pony Club
X-ORIGINAL-URL:http://southmidlandspc.org.au
X-WR-CALDESC:Events for South Midlands Pony Club
BEGIN:VEVENT
DTSTART;TZID=UTC+0:20191005T080000
DTEND;TZID=UTC+0:20191006T170000
DTSTAMP:20190227T164636
CREATED:20190210T123805Z
LAST-MODIFIED:20190210T123805Z
UID:365-1570262400-1570381200@southmidlandspc.org.au
SUMMARY:PCAWA State Eventing Championships - Capel
DESCRIPTION:
URL:http://southmidlandspc.org.au/event/pcawa-state-eventing-championships-capel/
END:VEVENT
END:VCALENDAR