BEGIN:VCALENDAR
VERSION:2.0
PRODID:-//South Midlands Pony Club - ECPv4.6//NONSGML v1.0//EN
CALSCALE:GREGORIAN
METHOD:PUBLISH
X-WR-CALNAME:South Midlands Pony Club
X-ORIGINAL-URL:http://southmidlandspc.org.au
X-WR-CALDESC:Events for South Midlands Pony Club
BEGIN:VEVENT
DTSTART;TZID=UTC+0:20190901T080000
DTEND;TZID=UTC+0:20190901T170000
DTSTAMP:20190227T165111
CREATED:20190210T122728Z
LAST-MODIFIED:20190210T122728Z
UID:355-1567324800-1567357200@southmidlandspc.org.au
SUMMARY:Fathers Day
DESCRIPTION:
URL:http://southmidlandspc.org.au/event/fathers-day/
END:VEVENT
END:VCALENDAR