BEGIN:VCALENDAR
VERSION:2.0
PRODID:-//South Midlands Pony Club - ECPv4.6//NONSGML v1.0//EN
CALSCALE:GREGORIAN
METHOD:PUBLISH
X-WR-CALNAME:South Midlands Pony Club
X-ORIGINAL-URL:http://southmidlandspc.org.au
X-WR-CALDESC:Events for South Midlands Pony Club
BEGIN:VEVENT
DTSTART;TZID=UTC+0:20190706T080000
DTEND;TZID=UTC+0:20190708T170000
DTSTAMP:20190227T163622
CREATED:20190210T122300Z
LAST-MODIFIED:20190210T122300Z
UID:347-1562400000-1562605200@southmidlandspc.org.au
SUMMARY:Avon Zone Camp - Northam
DESCRIPTION:
URL:http://southmidlandspc.org.au/event/avon-zone-camp-northam/
END:VEVENT
END:VCALENDAR